BEGIN:VCALENDAR
VERSION:2.0
PRODID:-//ChamberMaster//Event Calendar 2.0//EN
METHOD:PUBLISH
X-PUBLISHED-TTL:P3D
REFRESH-INTERVAL:P3D
CALSCALE:GREGORIAN
BEGIN:VEVENT
DTSTART:20260428T200000Z
DTEND:20260428T220000Z
X-MICROSOFT-CDO-ALLDAYEVENT:FALSE
SUMMARY:Ribbon Cutting: Ocean Resorts Golf Club
DESCRIPTION:Ribbon Cutting Celebration\n\nCome celebrate Ocean Resorts Golf Club recently remodeled dining room in the Clubhouse and also to welcome new Director of Golf\, Bob Beckelman.  Join us for a Ribbon Cutting followed by light refreshments along with fun on the driving range and practice facilities.
X-ALT-DESC;FMTTYPE=text/html:<span style="color:#006400\;"><span style="font-size:20px\;"><span style="font-family:verdana\;">Ribbon Cutting Celebration</span></span></span><br />\n<span style="color: rgb(5\, 5\, 5)\; font-family: &quot\;Segoe UI Historic&quot\;\, &quot\;Segoe UI&quot\;\, Helvetica\, Arial\, sans-serif\; font-size: 15px\;">Come celebrate Ocean Resorts Golf Club recently remodeled dining room in the Clubhouse and also to welcome new Director of Golf\, Bob Beckelman.&nbsp\; Join us for a Ribbon Cutting followed by light refreshments along with fun on the driving range and practice facilities.</span>
LOCATION:Ocean Resorts Golf Club 10655 Cathell Road Berlin\, MD 21811
UID:e.803.16036
SEQUENCE:3
DTSTAMP:20260423T200305Z
URL:https://business.worcestercountychamber.org/events/details/ribbon-cutting-ocean-resorts-golf-club-16036
END:VEVENT

END:VCALENDAR
