BEGIN:VCALENDAR
VERSION:2.0
PRODID:-//ChamberMaster//Event Calendar 2.0//EN
METHOD:PUBLISH
X-PUBLISHED-TTL:P3D
REFRESH-INTERVAL:P3D
CALSCALE:GREGORIAN
BEGIN:VEVENT
DTSTART:20260516T220000Z
DTEND:20260517T000000Z
X-MICROSOFT-CDO-ALLDAYEVENT:FALSE
SUMMARY:Originals Only: No Covers\, Just Creators
DESCRIPTION:Originals Only: No Covers\, Just Creators is a celebration of authentic\, original expression across all creative mediums. This event brings together poets\, comedians\, musicians\, and performers to showcase their unique voices and stories. No covers\, no routines just raw\, unfiltered talent. Whether you're here to experience a fresh spoken word piece\, a stand-up comedy set\, or original music that speaks from the heart\, this is the place for true creators to shine. Join us for a night of creativity\, inspiration\, and one-of-a-kind performances that are all about celebrating originality.\n\nFree and open to all   snacks included!\n\n\nLineup:\n\nBrad Allen\n\nrecess period\n\nMikel Campbell\n\nThe Papers
X-ALT-DESC;FMTTYPE=text/html:<p>Originals Only: No Covers\, Just Creators&nbsp\;is a celebration of authentic\, original expression across all creative mediums. This event brings together poets\, comedians\, musicians\, and performers to showcase their unique voices and stories. No covers\, no routines&mdash\;just raw\, unfiltered talent. Whether you&rsquo\;re here to experience a fresh spoken word piece\, a stand-up comedy set\, or original music that speaks from the heart\, this is the place for true creators to shine. Join us for a night of creativity\, inspiration\, and one-of-a-kind performances that are all about celebrating originality.</p>\n\n<p>Free and open to all &ndash\; snacks included!</p>\n\n<div>\n<p><strong>Lineup:</strong></p>\n\n<p>Brad Allen</p>\n\n<p>recess period</p>\n\n<p>Mikel Campbell</p>\n\n<p>The Papers</p>\n</div>\n
LOCATION:502 94th Street\, Ocean City\, MD\, 21842
UID:e.803.16035
SEQUENCE:3
DTSTAMP:20260424T032605Z
URL:https://business.worcestercountychamber.org/events/details/originals-only-no-covers-just-creators-05-16-2026-16035
END:VEVENT

END:VCALENDAR
