BEGIN:VCALENDAR
VERSION:2.0
PRODID:-//ChamberMaster//Event Calendar 2.0//EN
METHOD:PUBLISH
X-PUBLISHED-TTL:P3D
REFRESH-INTERVAL:P3D
CALSCALE:GREGORIAN
BEGIN:VEVENT
DTSTART:20260512T210000Z
DTEND:20260512T220000Z
X-MICROSOFT-CDO-ALLDAYEVENT:FALSE
SUMMARY:Grand Opening Di Di's Facial Spa - Ribbon Cutting
DESCRIPTION:Come celebrate the grand opening of Di Di's Facial Spa on May 12th from 5pm - 6pm at their new location 11042 Nicholas Lane Unit 103B. See their new fabulous space and learn about the many services now available to the Ocean Pines community! Ribbon cutting ceremony at 5:30pm.
X-ALT-DESC;FMTTYPE=text/html:<span style="font-size:14px\;"><span style="font-family:verdana\;">Come celebrate the <strong>grand opening</strong> of <strong>Di Di&#39\;s Facial Spa</strong>&nbsp\;on<strong>&nbsp\;May 12th from 5pm - 6pm</strong> at their new location&nbsp\;<strong>11042 Nicholas Lane Unit 103B</strong>. See their new fabulous space and learn about the many services now available to the Ocean Pines community!&nbsp\;<strong>Ribbon cutting ceremony at 5:30pm.</strong></span></span>
LOCATION:Di Di's Facial Spa 11042 Nicholas Lane Unit 103B Ocean Pines\, MD 21811
UID:e.803.16032
SEQUENCE:3
DTSTAMP:20260422T102417Z
URL:https://business.worcestercountychamber.org/events/details/grand-opening-di-di-s-facial-spa-ribbon-cutting-16032
END:VEVENT

END:VCALENDAR
