BEGIN:VCALENDAR
VERSION:2.0
PRODID:-//ChamberMaster//Event Calendar 2.0//EN
METHOD:PUBLISH
X-PUBLISHED-TTL:P3D
REFRESH-INTERVAL:P3D
CALSCALE:GREGORIAN
BEGIN:VEVENT
DTSTART:20260522T140000Z
DTEND:20260522T160000Z
X-MICROSOFT-CDO-ALLDAYEVENT:FALSE
SUMMARY:Estate Planning Workshop | May 22\, 2026 w/ Coastal Hospice
DESCRIPTION:Don't miss this opportunity to gain valuable insights and have your questions answered by experts at our upcoming Estate Planning Workshop\, hosted in partnership with the Community Foundation of the Eastern Shore.\n\nWe're pleased to welcome two highly experienced presenters\, Gina Shaffer\, Esquire\, and Robert S. Jeter II\, CFP \, who will lead an informative discussion on donor-advised funds\, estate planning\, planned giving\, advance directives\, and hospice care.\n\nThis session is free and open to the public\; however\, space is limited to 40 attendees. Please register at https://bit.ly/48cxt3h. Follow & share on Facebook\; https://www.facebook.com/share/1B7BPB4iZ7/!
X-ALT-DESC;FMTTYPE=text/html:<div>Don&rsquo\;t miss this opportunity to gain valuable insights and have your questions answered by experts at our upcoming Estate Planning Workshop\, hosted in partnership with the Community Foundation of the Eastern Shore.</div>\n\n<p><span style="color:rgb(36\, 36\, 36)\; font-family:times new roman\,times\,serif\; font-size:11pt">We&rsquo\;re pleased to welcome two highly experienced presenters\, Gina Shaffer\, Esquire\, and Robert S. Jeter II\, CFP&reg\;\, who will lead an informative discussion on donor-advised funds\, estate planning\, planned giving\, advance directives\, and hospice care.</span></p>\n\n<p><span style="color:rgb(36\, 36\, 36)\; font-family:times new roman\,times\,serif\; font-size:11pt">This session is free and open to the public\; however\, space is limited to 40 attendees. Please register at <a class="OWAAutoLink" href="https://bit.ly/48cxt3h" id="OWA3bca5226-71b4-c87a-6fa7-a2fdead75c3b" style="margin: 0px\;" title="https://bit.ly/48cxt3h">https://bit.ly/48cxt3h</a>. Follow &amp\; share on Facebook\; </span><span style="font-family:times new roman\,times\,serif\; font-size:11pt"><a class="OWAAutoLink" href="https://www.facebook.com/share/1B7BPB4iZ7/" id="OWA2046c69e-8bd8-8cac-0372-49da9bbb3179" style="margin-top: 0px\; margin-bottom: 0px\;"><em>https://www.facebook.com/share/1B7BPB4iZ7/</em></a><em>!</em></span></p>\n\n<div>&nbsp\;</div>\n\n<div>&nbsp\;</div>\n
LOCATION:Community Foundation of the Eastern Shore | 1324 Belmont Ave Suite 401\, Salisbury\, MD\, 21804
UID:e.803.16034
SEQUENCE:3
DTSTAMP:20260425T235106Z
URL:https://business.worcestercountychamber.org/events/details/estate-planning-workshop-may-22-2026-w-coastal-hospice-16034
END:VEVENT

END:VCALENDAR
