BEGIN:VCALENDAR
VERSION:2.0
PRODID:-//ChamberMaster//Event Calendar 2.0//EN
METHOD:PUBLISH
X-PUBLISHED-TTL:P3D
REFRESH-INTERVAL:P3D
CALSCALE:GREGORIAN
BEGIN:VEVENT
DTSTART:20260218T160000Z
DTEND:20260218T180000Z
X-MICROSOFT-CDO-ALLDAYEVENT:FALSE
SUMMARY:Ashes-to-Go - St. Paul's Episcopal Church
DESCRIPTION:To begin the season of Lent\, this Ash Wednesday\, come see Mother Suz outside of the Hotel Atlantic to receive your ashes.
X-ALT-DESC;FMTTYPE=text/html:To begin the season of Lent\, this Ash Wednesday\, come see Mother Suz outside of the Hotel Atlantic to receive your ashes.
LOCATION:In front of The Hotel Atlantic 2 South Main Street\, Berlin\, MD
UID:e.803.15710
SEQUENCE:3
DTSTAMP:20260419T140203Z
URL:https://business.worcestercountychamber.org/events/details/ashes-to-go-st-paul-s-episcopal-church-15710
END:VEVENT

END:VCALENDAR
